BEGIN:VCALENDAR
VERSION:2.0
PRODID:EVENTFROG//EVENT//ICAL
BEGIN:VEVENT
UID:20260421T133110Z-7452068297250458034@eventfrog.at
DTSTAMP:20260421T133110Z
DTSTART:20260614T080000Z
DTEND:20260614T170000Z
SUMMARY:Hall:MUN - K-Pop Convention
DESCRIPTION:K-Pop Convention Hall:MUN bietet K-Pop und K-Culture Erlebnisse mit Tanzen, Shoppen, Snacken, Basteln, Random Play Dance und Verkaufsständen.\n\nhttps://eventfrog.at/en/p/art-exhibitions/culture/hall-mun-k-pop-convention-7452068297250458034.html
LOCATION:Tagungszentrum Kolpinghaus
GEO:48.137928;11.563424
URL:https://eventfrog.at/en/p/art-exhibitions/culture/hall-mun-k-pop-convention-7452068297250458034.html
END:VEVENT
END:VCALENDAR