BEGIN:VCALENDAR
VERSION:2.0
PRODID:EVENTFROG//EVENT//ICAL
BEGIN:VEVENT
UID:20260423T085138Z-7452059451849209143@eventfrog.at
DTSTAMP:20260423T085138Z
DTSTART:20260425T173000Z
DTEND:20260425T200000Z
SUMMARY:Ecstatic Dance
DESCRIPTION:Ecstatic Dance: Freier Tanz ohne Vorgaben, ohne Schuhe, ohne Substanzen und ohne Worte, Eintritt ab 19 Uhr.\n\nhttps://eventfrog.at/de/p/partys/sonstige-partys/ecstatic-dance-7452059451849209143.html
LOCATION:TeKi Space, Biel
GEO:47.144136;7.267437
URL:https://eventfrog.at/de/p/partys/sonstige-partys/ecstatic-dance-7452059451849209143.html
END:VEVENT
END:VCALENDAR