BEGIN:VCALENDAR
VERSION:2.0
PRODID:EVENTFROG//EVENT//ICAL
BEGIN:VEVENT
UID:20260421T130934Z-7452059281413652557@eventfrog.at
DTSTAMP:20260421T130934Z
DTSTART:20260627T163000Z
DTEND:20260627T181500Z
SUMMARY:Disco Burn 7.0 - Special 90er VS 2000er
DESCRIPTION:Das schweißtreibende Workout kombiniert Training mit und ohne Gewicht, begleitet von Lichteffekten und Beats.\n\nhttps://eventfrog.at/de/p/sport-fitness/fitness/disco-burn-7-0-special-90er-vs-2000er-7452059281413652557.html
LOCATION:Laa Plus
GEO:48.726208;16.400261
URL:https://eventfrog.at/de/p/sport-fitness/fitness/disco-burn-7-0-special-90er-vs-2000er-7452059281413652557.html
END:VEVENT
END:VCALENDAR