BEGIN:VCALENDAR
VERSION:2.0
PRODID:EVENTFROG//EVENT//ICAL
BEGIN:VEVENT
UID:20260421T133110Z-7452040919174370319@eventfrog.at
DTSTAMP:20260421T133110Z
DTSTART:20260620T130000Z
DTEND:20260620T140000Z
SUMMARY:Familienkonzert „Töne, die malen - Bilder, die klingen“
DESCRIPTION:Eintritt frei für’s Zuhören, Staunen und - wer will - Mitgestalten: Ein Familienkonzert (Kinder 8-12) mit Mussorgskis Bilder einer Ausstellung. Bringt eure eigenen Bilder mit und lasst sie erklingen!\n\nhttps://eventfrog.at/de/p/kinderveranstaltungen/konzert/familienkonzert-toene-die-malen-bilder-die-klingen-7452040919174370319.html
LOCATION:Konzertsaal der Hochschule für Musik Dresden
GEO:51.053590;13.725120
URL:https://eventfrog.at/de/p/kinderveranstaltungen/konzert/familienkonzert-toene-die-malen-bilder-die-klingen-7452040919174370319.html
END:VEVENT
END:VCALENDAR