BEGIN:VCALENDAR
VERSION:2.0
PRODID:EVENTFROG//EVENT//ICAL
BEGIN:VEVENT
UID:20260421T094820Z-7452023132901099240@eventfrog.at
DTSTAMP:20260421T094820Z
DTSTART:20260808T170000Z
DTEND:20260808T210000Z
SUMMARY:Afrocave ( Roots and Rhythm)
DESCRIPTION:Afro Cave presents: Roots & Rhythm \n\nExperience a unique night of culture, rhythm, and live energy in the heart of Aarau.\n\nRoots & Rhythm is not just a party — it is a curated Afro experience \n\nhttps://eventfrog.at/en/p/musicals-shows/dance-show/afrocave-roots-and-rhythm-7452023132901099240.html
LOCATION:Mino Aarau (kirchensaal
GEO:47.390860;8.047248
URL:https://eventfrog.at/en/p/musicals-shows/dance-show/afrocave-roots-and-rhythm-7452023132901099240.html
END:VEVENT
END:VCALENDAR