BEGIN:VCALENDAR
VERSION:2.0
PRODID:EVENTFROG//EVENT//ICAL
BEGIN:VEVENT
UID:20260425T120502Z-7452020716986224737@eventfrog.at
DTSTAMP:20260425T120502Z
DTSTART:20260621T120000Z
DTEND:20260621T130000Z
SUMMARY:Lebensfreude pur. Zeit für dich in 55288 Spiesheim
DESCRIPTION:Britta Zilles und Sonja Gmünd bieten Lebensfreude pur: eine Kakao-Zeremonie mit Klangreise und weitere Wohlfühl-Behandlungen. Zeit für Dich.\n\nhttps://eventfrog.at/de/p/gesundheit-spiritualitaet/gesundheit-wohlbefinden/lebensfreude-pur-zeit-fuer-dich-in-55288-spiesheim-7452020716986224737.html
LOCATION:Lebensfreude pur. Zeit für dich in 55288 Spiesheim
GEO:49.811153;8.129404
URL:https://eventfrog.at/de/p/gesundheit-spiritualitaet/gesundheit-wohlbefinden/lebensfreude-pur-zeit-fuer-dich-in-55288-spiesheim-7452020716986224737.html
END:VEVENT
END:VCALENDAR