BEGIN:VCALENDAR
VERSION:2.0
PRODID:EVENTFROG//EVENT//ICAL
BEGIN:VEVENT
UID:20260425T230335Z-7452020235954055747@eventfrog.at
DTSTAMP:20260425T230335Z
DTSTART:20260425T180000Z
DTEND:20260425T220100Z
SUMMARY:Metal Konzert im Horte - Break The Pit
DESCRIPTION:Am 25.04.2026 ab 19 Uhr  (Einlass)spielen Soulset und LawShid Metal unter dem Motto «Break the Pit» im Konzert.\n\nhttps://eventfrog.at/de/p/konzerte/hard-rock-heavy-metal/metal-konzert-im-horte-break-the-pit-7452020235954055747.html
LOCATION:Horte Strsusberg
GEO:52.583213;13.891560
URL:https://eventfrog.at/de/p/konzerte/hard-rock-heavy-metal/metal-konzert-im-horte-break-the-pit-7452020235954055747.html
END:VEVENT
END:VCALENDAR