BEGIN:VCALENDAR
VERSION:2.0
PRODID:EVENTFROG//EVENT//ICAL
BEGIN:VEVENT
UID:20260423T032746Z-7452017797360534562@eventfrog.at
DTSTAMP:20260423T032746Z
DTSTART:20260426T150000Z
DTEND:20260426T163000Z
SUMMARY:Frühlingsstimmen
DESCRIPTION:Konzert mit Perlen des Barocks und weiterer Epochen mit dem Ensemble Entr'acte\n\n\nhttps://eventfrog.at/de/p/konzerte/weitere-musikrichtungen/fruehlingsstimmen-7452017797360534562.html
LOCATION:Paradieskirche
GEO:47.539777;7.565106
URL:https://eventfrog.at/de/p/konzerte/weitere-musikrichtungen/fruehlingsstimmen-7452017797360534562.html
END:VEVENT
END:VCALENDAR