BEGIN:VCALENDAR
VERSION:2.0
PRODID:EVENTFROG//EVENT//ICAL
BEGIN:VEVENT
UID:20260422T011425Z-7452015671515302355@eventfrog.at
DTSTAMP:20260422T011425Z
DTSTART:20260425T200000Z
DTEND:20260426T030000Z
SUMMARY:Techno Classics Party
DESCRIPTION:Marco & Peter legen am 25.4.26 ab 22 Uhr bei der Techno Classics Party im Club auf.\n\nhttps://eventfrog.at/de/p/partys/electro/techno-classics-party-7452015671515302355.html
LOCATION:Silver Event Location
GEO:52.550461;13.442255
URL:https://eventfrog.at/de/p/partys/electro/techno-classics-party-7452015671515302355.html
END:VEVENT
END:VCALENDAR