BEGIN:VCALENDAR
VERSION:2.0
PRODID:EVENTFROG//EVENT//ICAL
BEGIN:VEVENT
UID:20260424T102147Z-7452015267578690856@eventfrog.at
DTSTAMP:20260424T102147Z
DTSTART:20260803T070000Z
DTEND:20260807T140000Z
SUMMARY:Finance4Kids Sommercamp
DESCRIPTION:Kinder lernen vormittags spielerisch den Umgang mit Geld und sind nachmittags mit Gruppenspielen draussen aktiv.\n\nhttps://eventfrog.at/de/p/kinderveranstaltungen/ferienprogramm/finance4kids-sommercamp-7452015267578690856.html
LOCATION:Zürich Stadt, Genossenschaftsraum Hofgarten
GEO:47.396754;8.534257
URL:https://eventfrog.at/de/p/kinderveranstaltungen/ferienprogramm/finance4kids-sommercamp-7452015267578690856.html
END:VEVENT
END:VCALENDAR