BEGIN:VCALENDAR
VERSION:2.0
PRODID:EVENTFROG//EVENT//ICAL
BEGIN:VEVENT
UID:20260424T085000Z-7452002525367006909@eventfrog.at
DTSTAMP:20260424T085000Z
DTSTART:20260606T173000Z
DTEND:20260606T184000Z
SUMMARY:still still
DESCRIPTION:Eine Bühne, 16 Performer*innen, Stille. Zwischen Verstummen und leisem Widerstand, zwischen Isolation und Beziehung – still still ist eine spielerische Einladung, dem Leisen Raum zu geben.\n\nhttps://eventfrog.at/de/p/theater-buehne/tanz/still-still-7452002525367006909.html
LOCATION:Theater BAU3
GEO:47.541733;7.593251
URL:https://eventfrog.at/de/p/theater-buehne/tanz/still-still-7452002525367006909.html
END:VEVENT
END:VCALENDAR