BEGIN:VCALENDAR
VERSION:2.0
PRODID:EVENTFROG//EVENT//ICAL
BEGIN:VEVENT
UID:20260424T062057Z-7451999015661500916@eventfrog.at
DTSTAMP:20260424T062057Z
DTSTART:20261205T183000Z
DTEND:20261205T200000Z
SUMMARY:Candlelight-Konzert
DESCRIPTION:Ein weiteres Konzert unserer Candlelight-Serie: berührend und schön, Balsam für die Seele.\n\nhttps://eventfrog.at/de/p/konzerte/chor/candlelight-konzert-7451999015661500916.html
LOCATION:Reformierte Kirche Pratteln
GEO:47.516777;7.695274
URL:https://eventfrog.at/de/p/konzerte/chor/candlelight-konzert-7451999015661500916.html
END:VEVENT
END:VCALENDAR