BEGIN:VCALENDAR
VERSION:2.0
PRODID:EVENTFROG//EVENT//ICAL
BEGIN:VEVENT
UID:20260421T183704Z-7451996821130360514@eventfrog.at
DTSTAMP:20260421T183704Z
DTSTART:20260626T180000Z
DTEND:20260626T191500Z
SUMMARY:The Music of the Lord of the Rings. Tribute to Howard Shore
DESCRIPTION:Erleben Sie die majestätisch-anmutende Musik aus der legendären „Herr der Ringe“-Trilogie! Wir versprechen Ihnen ein einmaliges Erlebnis, das Sie nicht verpassen sollten!\n\nhttps://eventfrog.at/en/p/classical-music-operas/classical-music/the-music-of-the-lord-of-the-rings-tribute-to-howard-shore-7451996821130360514.html
LOCATION:Paulanerkirche
GEO:48.196061;16.367463
URL:https://eventfrog.at/en/p/classical-music-operas/classical-music/the-music-of-the-lord-of-the-rings-tribute-to-howard-shore-7451996821130360514.html
END:VEVENT
END:VCALENDAR