BEGIN:VCALENDAR
VERSION:2.0
PRODID:EVENTFROG//EVENT//ICAL
BEGIN:VEVENT
UID:20260423T034455Z-7451991288449090961@eventfrog.at
DTSTAMP:20260423T034455Z
DTSTART:20260426T120000Z
DTEND:20261108T163000Z
SUMMARY:Villa Abegg – Das Anwesen eines Sammlerpaares
DESCRIPTION:Täglich geführte Rundgänge (45 Minuten) in Gruppen von maximal 5 Personen in der Villa Abegg\n\nhttps://eventfrog.at/de/p/fuehrungen-vortraege/fuehrung/villa-abegg-das-anwesen-eines-sammlerpaares-7451991288449090961.html
LOCATION:Abegg-Stiftung
GEO:46.815411;7.494730
URL:https://eventfrog.at/de/p/fuehrungen-vortraege/fuehrung/villa-abegg-das-anwesen-eines-sammlerpaares-7451991288449090961.html
END:VEVENT
END:VCALENDAR