BEGIN:VCALENDAR
VERSION:2.0
PRODID:EVENTFROG//EVENT//ICAL
BEGIN:VEVENT
UID:20260424T095854Z-7451990887473657333@eventfrog.at
DTSTAMP:20260424T095854Z
DTSTART:20260920T123000Z
DTEND:20260920T133000Z
SUMMARY:Öffentliche Führung durch die Sonderausstellung
DESCRIPTION:Öffentliche Führung durch die Sonderausstellung «Zuhause in der Spätantike – Textile Innenausstattung des 4.–7. Jahrhunderts»\n\nhttps://eventfrog.at/de/p/fuehrungen-vortraege/fuehrung/oeffentliche-fuehrung-durch-die-sonderausstellung-7451990887473657333.html
LOCATION:Abegg-Stiftung
GEO:46.815411;7.494730
URL:https://eventfrog.at/de/p/fuehrungen-vortraege/fuehrung/oeffentliche-fuehrung-durch-die-sonderausstellung-7451990887473657333.html
END:VEVENT
END:VCALENDAR