BEGIN:VCALENDAR
VERSION:2.0
PRODID:EVENTFROG//EVENT//ICAL
BEGIN:VEVENT
UID:20260424T095905Z-7451989918073530131@eventfrog.at
DTSTAMP:20260424T095905Z
DTSTART:20260509T080000Z
DTEND:20260509T113000Z
SUMMARY:Speed-Jobmarkt bei der Model AG
DESCRIPTION:Die Model AG lädt am 9. Mai 2026 zum Speed-Jobmarkt in Niedergösgen ein. Einblicke in die Papierproduktion, persönliche Gespräche und kurze Bewerbungsgespräche – ganz ohne Anmeldung.\n\nhttps://eventfrog.at/de/p/fuehrungen-vortraege/firmenvortrag/speed-jobmarkt-bei-der-model-ag-7451989918073530131.html
LOCATION:Model AG
GEO:47.367353;7.985431
URL:https://eventfrog.at/de/p/fuehrungen-vortraege/firmenvortrag/speed-jobmarkt-bei-der-model-ag-7451989918073530131.html
END:VEVENT
END:VCALENDAR