BEGIN:VCALENDAR
VERSION:2.0
PRODID:EVENTFROG//EVENT//ICAL
BEGIN:VEVENT
UID:20260424T095814Z-7451988366898287568@eventfrog.at
DTSTAMP:20260424T095814Z
DTSTART:20260902T140000Z
DTEND:20260902T150000Z
SUMMARY:Kleine Schlaufen, grosse Wirkung
DESCRIPTION:Themenführung in der Abegg-Stiftung mit Bettina Niekamp, Leiterin Textilkonservierung, und Dr. Michael Peter, Kurator\n\nhttps://eventfrog.at/de/p/fuehrungen-vortraege/fuehrung/kleine-schlaufen-grosse-wirkung-7451988366898287568.html
LOCATION:Abegg-Stiftung
GEO:46.815411;7.494730
URL:https://eventfrog.at/de/p/fuehrungen-vortraege/fuehrung/kleine-schlaufen-grosse-wirkung-7451988366898287568.html
END:VEVENT
END:VCALENDAR