BEGIN:VCALENDAR
VERSION:2.0
PRODID:EVENTFROG//EVENT//ICAL
BEGIN:VEVENT
UID:20260424T095854Z-7451987433388834792@eventfrog.at
DTSTAMP:20260424T095854Z
DTSTART:20260701T140000Z
DTEND:20260701T150000Z
SUMMARY:À la mode – Kleiderstoffe im 18. Jahrhundert
DESCRIPTION:Themenführung in der Abegg-Stiftung mit Dr. Anna Jolly, Kuratorin\n\nhttps://eventfrog.at/de/p/fuehrungen-vortraege/fuehrung/a-la-mode-kleiderstoffe-im-18-jahrhundert-7451987433388834792.html
LOCATION:Abegg-Stiftung
GEO:46.815411;7.494730
URL:https://eventfrog.at/de/p/fuehrungen-vortraege/fuehrung/a-la-mode-kleiderstoffe-im-18-jahrhundert-7451987433388834792.html
END:VEVENT
END:VCALENDAR