BEGIN:VCALENDAR
VERSION:2.0
PRODID:EVENTFROG//EVENT//ICAL
BEGIN:VEVENT
UID:20260425T234557Z-7451987181684427285@eventfrog.at
DTSTAMP:20260425T234557Z
DTSTART:20260507T170000Z
DTEND:20260507T180000Z
SUMMARY:Eine Lesung mit Herz und Humor
DESCRIPTION:Barbara Terpoorten verbindet Lesung und Lieder zu den facettenreichen Themen rund ums Muttersein im Seewadel.\n\nhttps://eventfrog.at/de/p/theater-buehne/lesung/eine-lesung-mit-herz-und-humor-7451987181684427285.html
LOCATION:Seewadel - Zentrum für Gesundheit und Alter
GEO:47.278066;8.446326
URL:https://eventfrog.at/de/p/theater-buehne/lesung/eine-lesung-mit-herz-und-humor-7451987181684427285.html
END:VEVENT
END:VCALENDAR