BEGIN:VCALENDAR
VERSION:2.0
PRODID:EVENTFROG//EVENT//ICAL
BEGIN:VEVENT
UID:20260424T062245Z-7451985920109068283@eventfrog.at
DTSTAMP:20260424T062245Z
DTSTART:20260506T160000Z
DTEND:20260506T160000Z
SUMMARY:Inklusiver Ausstellungsrundgang
DESCRIPTION:Rundgang «Farbige Geschichten» für Besucher*innen mit und ohne Sehbehinderung/Blindheit: «Die Eule ist pink» mit mehreren Sinnen erleben und neue Perspektiven entdecken.\n\nhttps://eventfrog.at/de/p/kunst-ausstellungen/ausstellung/inklusiver-ausstellungsrundgang-7451985920109068283.html
LOCATION:Museum der Kulturen Basel
GEO:47.557200;7.590650
URL:https://eventfrog.at/de/p/kunst-ausstellungen/ausstellung/inklusiver-ausstellungsrundgang-7451985920109068283.html
END:VEVENT
END:VCALENDAR