BEGIN:VCALENDAR
VERSION:2.0
PRODID:EVENTFROG//EVENT//ICAL
BEGIN:VEVENT
UID:20260424T145118Z-7451985775535646086@eventfrog.at
DTSTAMP:20260424T145118Z
DTSTART:20260425T143000Z
DTEND:20260425T200000Z
SUMMARY:Zwischen Fässern und Partituren – Lortzing in Auerbachs Kell
DESCRIPTION:Führung zu Albert Lortzing mit Wein aus dem Fasskeller und Abendessen im Grossen Keller, 25./26. April & 2./3. Mai 2026, 16:30 Uhr.\n\nhttps://eventfrog.at/de/p/fuehrungen-vortraege/fuehrung/zwischen-faessern-und-partituren-lortzing-in-auerbachs-kell-7451985775535646086.html
LOCATION:Auerbachs Keller Leipzig
GEO:51.344737;12.373854
URL:https://eventfrog.at/de/p/fuehrungen-vortraege/fuehrung/zwischen-faessern-und-partituren-lortzing-in-auerbachs-kell-7451985775535646086.html
END:VEVENT
END:VCALENDAR