BEGIN:VCALENDAR
VERSION:2.0
PRODID:EVENTFROG//EVENT//ICAL
BEGIN:VEVENT
UID:20260424T105220Z-7451971288271170107@eventfrog.at
DTSTAMP:20260424T105220Z
DTSTART:20260505T170000Z
DTEND:20260505T193000Z
SUMMARY:Wein Hits - die etwas andere Degustation!
DESCRIPTION:Wein, Musik und Geschichten verbinden sich in Winterthur ab 19 Uhr zu einem genussvollen Abend mit Florian Geibel und Nikolai Kemle.\n\nhttps://eventfrog.at/de/p/essen-trinken/wein-hits-die-etwas-andere-degustation-7451971288271170107.html
LOCATION:Rutishauser-DiVino SA
GEO:47.509740;8.673580
URL:https://eventfrog.at/de/p/essen-trinken/wein-hits-die-etwas-andere-degustation-7451971288271170107.html
END:VEVENT
END:VCALENDAR