BEGIN:VCALENDAR
VERSION:2.0
PRODID:EVENTFROG//EVENT//ICAL
BEGIN:VEVENT
UID:20260424T072458Z-7451969656225583220@eventfrog.at
DTSTAMP:20260424T072458Z
DTSTART:20260517T080000Z
DTEND:20260517T140000Z
SUMMARY:Regionaler Museumstag
DESCRIPTION:Mit dem Gratis-Shuttlebus besuchen Sie mehrere Museen mit Sonderausstellungen in der Region bequem und kostenlos.\n\nhttps://eventfrog.at/de/p/kunst-ausstellungen/ausstellung/regionaler-museumstag-7451969656225583220.html
LOCATION:Museum Aarburg, VW-Käfer Museum Aarburg, Ortsmuseum Oftringen, Heimatmuseum Rothrist, Museum Zofingen
GEO:47.321622;7.898667
URL:https://eventfrog.at/de/p/kunst-ausstellungen/ausstellung/regionaler-museumstag-7451969656225583220.html
END:VEVENT
END:VCALENDAR