BEGIN:VCALENDAR
VERSION:2.0
PRODID:EVENTFROG//EVENT//ICAL
BEGIN:VEVENT
UID:20260423T044702Z-7451915533484614822@eventfrog.at
DTSTAMP:20260423T044702Z
DTSTART:20260425T190000Z
DTEND:20260426T010000Z
SUMMARY:Karaoke mit Andreas Mani @ Schlossbergbar
DESCRIPTION:Am 14.10.2023 ab 21 Uhr lädt Mani Ändu zu einem entspannten Musikabend mit Gesang, Lachen und Mitmachen ein.\n\nhttps://eventfrog.at/de/p/partys/karaoke/karaoke-mit-andreas-mani-schlossbergbar-7451915533484614822.html
LOCATION:Schlossbergbar
GEO:46.760000;7.628790
URL:https://eventfrog.at/de/p/partys/karaoke/karaoke-mit-andreas-mani-schlossbergbar-7451915533484614822.html
END:VEVENT
END:VCALENDAR