BEGIN:VCALENDAR
VERSION:2.0
PRODID:EVENTFROG//EVENT//ICAL
BEGIN:VEVENT
UID:20260424T065102Z-7451914378905955898@eventfrog.at
DTSTAMP:20260424T065102Z
DTSTART:20260509T160000Z
DTEND:20260509T180000Z
SUMMARY:5 SENSES - Breathwork /w electronic music by Beyond Breath
DESCRIPTION:Max Moritz bietet in Zürich ein geführtes Breathwork mit Körperaktivierung und elektronischer Musik in fünf Sinnesphasen an.\n\nhttps://eventfrog.at/de/p/gesundheit-spiritualitaet/spiritualitaet/5-senses-breathwork-w-electronic-music-by-beyond-breath-7451914378905955898.html
LOCATION:LJUS Yoga Studio
GEO:47.392400;8.530949
URL:https://eventfrog.at/de/p/gesundheit-spiritualitaet/spiritualitaet/5-senses-breathwork-w-electronic-music-by-beyond-breath-7451914378905955898.html
END:VEVENT
END:VCALENDAR