BEGIN:VCALENDAR
VERSION:2.0
PRODID:EVENTFROG//EVENT//ICAL
BEGIN:VEVENT
UID:20260420T230036Z-7451912724433399359@eventfrog.at
DTSTAMP:20260420T230036Z
DTSTART:20260423T180000Z
DTEND:20260423T203000Z
SUMMARY:Fuck Up Night Mannheim VOL. 21
DESCRIPTION:Die Fuckup Night Mannheim feiert Fehler als Chance zum Wachsen mit ehrlichen Vorträgen von Unternehmern und Kreativen.\n\nhttps://eventfrog.at/de/p/diverses/fuck-up-night-mannheim-vol-21-7451912724433399359.html
LOCATION:Alte Feuerwache Mannheim
GEO:49.495744;8.474236
URL:https://eventfrog.at/de/p/diverses/fuck-up-night-mannheim-vol-21-7451912724433399359.html
END:VEVENT
END:VCALENDAR