BEGIN:VCALENDAR
VERSION:2.0
PRODID:EVENTFROG//EVENT//ICAL
BEGIN:VEVENT
UID:20260425T163558Z-7451912544631965516@eventfrog.at
DTSTAMP:20260425T163558Z
DTSTART:20261101T070000Z
DTEND:20261101T140000Z
SUMMARY:FLOHMARKT REWE ( Center ) SCHENEFELD Friedr. - Ebert - Allee
DESCRIPTION:Flohmarkt REWE ( Center ) Schenefeld Friedrich - Ebert - Allee 3 - 11\nBeliebter Flohmarkt seit 1982\n\nhttps://eventfrog.at/de/p/maerkte/flohmarkt/flohmarkt-rewe-center-schenefeld-friedr-ebert-allee-7451912544631965516.html
LOCATION:FLOHMARKT REWE ( Center ) SCHENEFELD Friedrich - Ebert - Allee 3 - 11
GEO:53.608647;9.841089
URL:https://eventfrog.at/de/p/maerkte/flohmarkt/flohmarkt-rewe-center-schenefeld-friedr-ebert-allee-7451912544631965516.html
END:VEVENT
END:VCALENDAR