BEGIN:VCALENDAR
VERSION:2.0
PRODID:EVENTFROG//EVENT//ICAL
BEGIN:VEVENT
UID:20260424T072701Z-7451911122234394858@eventfrog.at
DTSTAMP:20260424T072701Z
DTSTART:20260515T200000Z
DTEND:20260516T080000Z
SUMMARY:Elysia Freitag 15. Mai
DESCRIPTION:Elysia Freitag 15. Mai\n\nhttps://eventfrog.at/de/p/partys/house-techno/elysia-freitag-15-mai-7451911122234394858.html
LOCATION:Elysia
GEO:47.531698;7.607463
URL:https://eventfrog.at/de/p/partys/house-techno/elysia-freitag-15-mai-7451911122234394858.html
END:VEVENT
END:VCALENDAR