BEGIN:VCALENDAR
VERSION:2.0
PRODID:EVENTFROG//EVENT//ICAL
BEGIN:VEVENT
UID:20260422T204834Z-7451901550161622926@eventfrog.at
DTSTAMP:20260422T204834Z
DTSTART:20260530T070000Z
DTEND:20260601T150000Z
SUMMARY:Pränatal Yoga - 25h-Yoga-Weiterbildung
DESCRIPTION:Yoga-Fortbildung vom 30.05. bis 01.06.2026 vermittelt Wissen zur sicheren Begleitung von Schwangeren im Pränatal Yoga.\n\nhttps://eventfrog.at/de/p/sport-fitness/yoga/praenatal-yoga-25h-yoga-weiterbildung-7451901550161622926.html
LOCATION:Yoga Labor Berlin
GEO:52.462984;13.509339
URL:https://eventfrog.at/de/p/sport-fitness/yoga/praenatal-yoga-25h-yoga-weiterbildung-7451901550161622926.html
END:VEVENT
END:VCALENDAR