BEGIN:VCALENDAR
VERSION:2.0
PRODID:EVENTFROG//EVENT//ICAL
BEGIN:VEVENT
UID:20260420T230039Z-7451899627958198429@eventfrog.at
DTSTAMP:20260420T230039Z
DTSTART:20260424T120000Z
SUMMARY:Visions of Sound – Erlebe eine Neue Hördimension
DESCRIPTION:Visions of Sound präsentiert aktuelle Blu-ray Veröffentlichungen mit Dolby Atmos Tonmischungen bei RADIOKÖRNER in Dresden.\n\nhttps://eventfrog.at/de/p/diverses/visions-of-sound-erlebe-eine-neue-hoerdimension-7451899627958198429.html
LOCATION:RADIOKÖRNER
GEO:51.056448;13.725656
URL:https://eventfrog.at/de/p/diverses/visions-of-sound-erlebe-eine-neue-hoerdimension-7451899627958198429.html
END:VEVENT
END:VCALENDAR