BEGIN:VCALENDAR
VERSION:2.0
PRODID:EVENTFROG//EVENT//ICAL
BEGIN:VEVENT
UID:20260421T121026Z-7451894791091019061@eventfrog.at
DTSTAMP:20260421T121026Z
DTSTART:20260606T200000Z
DTEND:20260607T020000Z
SUMMARY:Ü30 Party Erfurt – Grand Opening
DESCRIPTION:Am 6.6.26 startet die Ü30 Party erstmals im Cosmopolar Club Erfurt mit House, Pop, RnB und Klassikern ab 22 Uhr.\n\nhttps://eventfrog.at/de/p/partys/mottoparty/ue30-party-erfurt-grand-opening-7451894791091019061.html
LOCATION:Cosmopolar Club Erfurt
GEO:50.976873;11.034409
URL:https://eventfrog.at/de/p/partys/mottoparty/ue30-party-erfurt-grand-opening-7451894791091019061.html
END:VEVENT
END:VCALENDAR