BEGIN:VCALENDAR
VERSION:2.0
PRODID:EVENTFROG//EVENT//ICAL
BEGIN:VEVENT
UID:20260423T034456Z-7451894264018030309@eventfrog.at
DTSTAMP:20260423T034456Z
DTSTART:20260426T083000Z
DTEND:20260426T130000Z
SUMMARY:Neueröffnung Speisecafé "eifach"
DESCRIPTION:Das Speisecafé «eifach» öffnet am 26.4.2026 von 10:30 bis 15 Uhr mit Kaffee, Leckereien und Spiel im Innenhof der katholischen Kirche. Alle sind herzlich willkommen.\n\nhttps://eventfrog.at/de/p/essen-trinken/neueroeffnung-speisecafe-eifach-7451894264018030309.html
LOCATION:eifach Lunch & Café
GEO:47.389735;8.173357
URL:https://eventfrog.at/de/p/essen-trinken/neueroeffnung-speisecafe-eifach-7451894264018030309.html
END:VEVENT
END:VCALENDAR