BEGIN:VCALENDAR
VERSION:2.0
PRODID:EVENTFROG//EVENT//ICAL
BEGIN:VEVENT
UID:20260423T061421Z-7451878986186013371@eventfrog.at
DTSTAMP:20260423T061421Z
DTSTART:20260425T180000Z
DTEND:20260425T200000Z
SUMMARY:Two Ways Home
DESCRIPTION:TWO WAYS HOME spielen eingängige, melodisch-rockige Songs im modernen Alt-Country-Folk-Rock-Stil.\n\nhttps://eventfrog.at/de/p/konzerte/country/two-ways-home-7451878986186013371.html
LOCATION:Restaurant Rebleuten
GEO:46.730538;7.669955
URL:https://eventfrog.at/de/p/konzerte/country/two-ways-home-7451878986186013371.html
END:VEVENT
END:VCALENDAR