BEGIN:VCALENDAR
VERSION:2.0
PRODID:EVENTFROG//EVENT//ICAL
BEGIN:VEVENT
UID:20260424T102200Z-7451878006392376962@eventfrog.at
DTSTAMP:20260424T102200Z
DTSTART:20260502T090000Z
DTEND:20260502T180000Z
SUMMARY:Offene Weinkeller 2026
DESCRIPTION:Grosse Frühlingsweinverkostung mit Festwirtschaft, Kuchenbuffet und geführtem Rebbergrundgang, Treffpunkt 14 Uhr, Bergstrasse 67.\n\nhttps://eventfrog.at/de/p/freizeit-ausfluege/ausflug/offene-weinkeller-2026-7451878006392376962.html
LOCATION:Klosterweine Wettingen
GEO:47.471305;8.342165
URL:https://eventfrog.at/de/p/freizeit-ausfluege/ausflug/offene-weinkeller-2026-7451878006392376962.html
END:VEVENT
END:VCALENDAR