BEGIN:VCALENDAR
VERSION:2.0
PRODID:EVENTFROG//EVENT//ICAL
BEGIN:VEVENT
UID:20260420T192652Z-7451869835087057864@eventfrog.at
DTSTAMP:20260420T192652Z
DTSTART:20260508T130000Z
DTEND:20260508T150000Z
SUMMARY:Café Vegan mit Wildkräuter-Teeparty
DESCRIPTION:Das Café Vegan lädt im Kulturhaus zum Austausch über Wildkräuter und zum gemeinsamen Zubereiten von Kräutertees mit offenem Buffet ein.\n\nhttps://eventfrog.at/de/p/essen-trinken/cafe-vegan-mit-wildkraeuter-teeparty-7451869835087057864.html
LOCATION:Kulturhaus Milbertshofen
GEO:48.182056;11.567207
URL:https://eventfrog.at/de/p/essen-trinken/cafe-vegan-mit-wildkraeuter-teeparty-7451869835087057864.html
END:VEVENT
END:VCALENDAR