BEGIN:VCALENDAR
VERSION:2.0
PRODID:EVENTFROG//EVENT//ICAL
BEGIN:VEVENT
UID:20260424T092416Z-7451754016101402699@eventfrog.at
DTSTAMP:20260424T092416Z
DTSTART:20260528T150000Z
SUMMARY:Südbar
DESCRIPTION:Südbar\n\nhttps://eventfrog.at/de/p/partys/suedbar-7451754016101402699.html
LOCATION:Süd Bar
GEO:47.425607;9.374604
URL:https://eventfrog.at/de/p/partys/suedbar-7451754016101402699.html
END:VEVENT
END:VCALENDAR