BEGIN:VCALENDAR
VERSION:2.0
PRODID:EVENTFROG//EVENT//ICAL
BEGIN:VEVENT
UID:20260424T092411Z-7451754015908464713@eventfrog.at
DTSTAMP:20260424T092411Z
DTSTART:20260527T160000Z
SUMMARY:Südbar
DESCRIPTION:Südbar\n\nhttps://eventfrog.at/de/p/partys/suedbar-7451754015908464713.html
LOCATION:Süd Bar
GEO:47.425607;9.374604
URL:https://eventfrog.at/de/p/partys/suedbar-7451754015908464713.html
END:VEVENT
END:VCALENDAR