BEGIN:VCALENDAR
VERSION:2.0
PRODID:EVENTFROG//EVENT//ICAL
BEGIN:VEVENT
UID:20260420T044650Z-7451754014973134913@eventfrog.at
DTSTAMP:20260420T044650Z
DTSTART:20260508T180000Z
SUMMARY:All To Get Her / Ruined
DESCRIPTION:Pop-Punk/Alternative-Rock.\n\nhttps://eventfrog.at/de/p/konzerte/all-to-get-her-ruined-7451754014973134913.html
LOCATION:Zak
GEO:47.232050;8.834330
URL:https://eventfrog.at/de/p/konzerte/all-to-get-her-ruined-7451754014973134913.html
END:VEVENT
END:VCALENDAR