BEGIN:VCALENDAR
VERSION:2.0
PRODID:EVENTFROG//EVENT//ICAL
BEGIN:VEVENT
UID:20260420T042429Z-7451754014780196927@eventfrog.at
DTSTAMP:20260420T042429Z
DTSTART:20260502T183000Z
SUMMARY:Frank Richter
DESCRIPTION:Stand-up-Comedy: «#lovemyjob».\n\nhttps://eventfrog.at/de/p/theater-buehne/frank-richter-7451754014780196927.html
LOCATION:Zak
GEO:47.232050;8.834330
URL:https://eventfrog.at/de/p/theater-buehne/frank-richter-7451754014780196927.html
END:VEVENT
END:VCALENDAR