BEGIN:VCALENDAR
VERSION:2.0
PRODID:EVENTFROG//EVENT//ICAL
BEGIN:VEVENT
UID:20260424T071539Z-7451753060076922165@eventfrog.at
DTSTAMP:20260424T071539Z
DTSTART:20260523T180000Z
SUMMARY:Fräeser und Oxxon
DESCRIPTION:Punk'n'roll aus Zürich.\n\nhttps://eventfrog.at/de/p/konzerte/fraeeser-und-oxxon-7451753060076922165.html
LOCATION:Toms Beer Box
GEO:46.848764;9.530459
URL:https://eventfrog.at/de/p/konzerte/fraeeser-und-oxxon-7451753060076922165.html
END:VEVENT
END:VCALENDAR