BEGIN:VCALENDAR
VERSION:2.0
PRODID:EVENTFROG//EVENT//ICAL
BEGIN:VEVENT
UID:20260424T090234Z-7451751834417407598@eventfrog.at
DTSTAMP:20260424T090234Z
DTSTART:20260508T170000Z
SUMMARY:Matthias Estermann: A new skin for an old ceremony II
DESCRIPTION:Matthias Estermann: A new skin for an old ceremony II\n\nhttps://eventfrog.at/de/p/kunst-ausstellungen/matthias-estermann-a-new-skin-for-an-old-ceremony-ii-7451751834417407598.html
LOCATION:B74 – Raum für Kunst
GEO:47.053799;8.292761
URL:https://eventfrog.at/de/p/kunst-ausstellungen/matthias-estermann-a-new-skin-for-an-old-ceremony-ii-7451751834417407598.html
END:VEVENT
END:VCALENDAR