BEGIN:VCALENDAR
VERSION:2.0
PRODID:EVENTFROG//EVENT//ICAL
BEGIN:VEVENT
UID:20260424T072530Z-7451751715680831199@eventfrog.at
DTSTAMP:20260424T072530Z
DTSTART:20260502T180000Z
SUMMARY:Kalles Kaviar, Breakfast Mood
DESCRIPTION:Ska, Rocksteady und Early Reggae mit Soulkante.\n\nhttps://eventfrog.at/de/p/konzerte/kalles-kaviar-breakfast-mood-7451751715680831199.html
LOCATION:TapTab
GEO:47.694535;8.636379
URL:https://eventfrog.at/de/p/konzerte/kalles-kaviar-breakfast-mood-7451751715680831199.html
END:VEVENT
END:VCALENDAR