BEGIN:VCALENDAR
VERSION:2.0
PRODID:EVENTFROG//EVENT//ICAL
BEGIN:VEVENT
UID:20260424T072551Z-7451751666175453667@eventfrog.at
DTSTAMP:20260424T072551Z
DTSTART:20260504T173000Z
SUMMARY:Anna Rosenwasser
DESCRIPTION:Herz. Feministische Strategien und queere Hoffnung.\n\nhttps://eventfrog.at/de/p/theater-buehne/anna-rosenwasser-7451751666175453667.html
LOCATION:Werkstatt Chur
GEO:46.848620;9.530680
URL:https://eventfrog.at/de/p/theater-buehne/anna-rosenwasser-7451751666175453667.html
END:VEVENT
END:VCALENDAR