BEGIN:VCALENDAR
VERSION:2.0
PRODID:EVENTFROG//EVENT//ICAL
BEGIN:VEVENT
UID:20260424T072716Z-7451751388550282454@eventfrog.at
DTSTAMP:20260424T072716Z
DTSTART:20260612T170000Z
SUMMARY:Surface. Fragment. Body
DESCRIPTION:Surface. Fragment. Body\n\nhttps://eventfrog.at/de/p/kunst-ausstellungen/surface-fragment-body-7451751388550282454.html
LOCATION:Kunsthalle Luzern
GEO:47.056300;8.311160
URL:https://eventfrog.at/de/p/kunst-ausstellungen/surface-fragment-body-7451751388550282454.html
END:VEVENT
END:VCALENDAR