BEGIN:VCALENDAR
VERSION:2.0
PRODID:EVENTFROG//EVENT//ICAL
BEGIN:VEVENT
UID:20260424T173001Z-7451751116943924523@eventfrog.at
DTSTAMP:20260424T173001Z
DTSTART:20260508T181500Z
SUMMARY:Lindy Hop
DESCRIPTION:Mit Crashkurs und Live Band.\n\nhttps://eventfrog.at/de/p/partys/lindy-hop-7451751116943924523.html
LOCATION:Haberhaus Bühne
GEO:47.695348;8.631963
URL:https://eventfrog.at/de/p/partys/lindy-hop-7451751116943924523.html
END:VEVENT
END:VCALENDAR