BEGIN:VCALENDAR
VERSION:2.0
PRODID:EVENTFROG//EVENT//ICAL
BEGIN:VEVENT
UID:20260422T184223Z-7451748312586169804@eventfrog.at
DTSTAMP:20260422T184223Z
DTSTART:20260510T183000Z
SUMMARY:Billie Eilish – Hit Me Hard and Soft: The Tour
DESCRIPTION:3D Konzerterlebnis der Welttournee.\n\nhttps://eventfrog.at/de/p/freizeit-ausfluege/billie-eilish-hit-me-hard-and-soft-the-tour-7451748312586169804.html
LOCATION:Cinewil
GEO:47.463280;9.041600
URL:https://eventfrog.at/de/p/freizeit-ausfluege/billie-eilish-hit-me-hard-and-soft-the-tour-7451748312586169804.html
END:VEVENT
END:VCALENDAR