BEGIN:VCALENDAR
VERSION:2.0
PRODID:EVENTFROG//EVENT//ICAL
BEGIN:VEVENT
UID:20260424T062238Z-7451748310489017788@eventfrog.at
DTSTAMP:20260424T062238Z
DTSTART:20260529T180000Z
SUMMARY:Tschou Endo
DESCRIPTION:Balts Nill, Jessica Wezel, Bubi Rufener, uvm.\n\nhttps://eventfrog.at/de/p/konzerte/tschou-endo-7451748310489017788.html
LOCATION:Kammgarn
GEO:47.695890;8.638049
URL:https://eventfrog.at/de/p/konzerte/tschou-endo-7451748310489017788.html
END:VEVENT
END:VCALENDAR