BEGIN:VCALENDAR
VERSION:2.0
PRODID:EVENTFROG//EVENT//ICAL
BEGIN:VEVENT
UID:20260420T024824Z-7451747322940104919@eventfrog.at
DTSTAMP:20260420T024824Z
DTSTART:20260424T200000Z
DTEND:20260425T040000Z
SUMMARY:GIA & ALYSSA  ALEX DALLAS  NELSONFROMTHE9
DESCRIPTION:Rare club night at Kino Roland features Alyssa, Gia, Alex Dallas and newcomer Nelsonfromthe9 shaping dance music's next phase.\n\nhttps://eventfrog.at/de/p/partys/house-techno/gia-alyssa-alex-dallas-nelsonfromthe9-7451747322940104919.html
LOCATION:Kino Roland
GEO:47.378900;8.527120
URL:https://eventfrog.at/de/p/partys/house-techno/gia-alyssa-alex-dallas-nelsonfromthe9-7451747322940104919.html
END:VEVENT
END:VCALENDAR