BEGIN:VCALENDAR
VERSION:2.0
PRODID:EVENTFROG//EVENT//ICAL
BEGIN:VEVENT
UID:20260420T015844Z-7451735698401405412@eventfrog.at
DTSTAMP:20260420T015844Z
DTSTART:20260604T180000Z
DTEND:20260604T200000Z
SUMMARY:Stimmungsvolle Abendführung Salzburg
DESCRIPTION:Erleben Sie die Salzburgs Altstadt mit ihren traumhaften Fassaden, schönsten Gassen und beeindruckendsten Plätzen entspannt und in einer ganz besonderen Atmosphäre. \n\nhttps://eventfrog.at/de/p/fuehrungen-vortraege/fuehrung/stimmungsvolle-abendfuehrung-salzburg-7451735698401405412.html
LOCATION:Eingang Schloss Mirabell
GEO:47.805304;13.043195
URL:https://eventfrog.at/de/p/fuehrungen-vortraege/fuehrung/stimmungsvolle-abendfuehrung-salzburg-7451735698401405412.html
END:VEVENT
END:VCALENDAR