BEGIN:VCALENDAR
VERSION:2.0
PRODID:EVENTFROG//EVENT//ICAL
BEGIN:VEVENT
UID:20260421T094820Z-7451733573038556954@eventfrog.at
DTSTAMP:20260421T094820Z
DTSTART:20260430T130000Z
DTEND:20260430T163000Z
SUMMARY:"ÖKO ISCH GSUND"
DESCRIPTION:René Jaccard erklärt den gegenseitigen Einfluss von Umwelt und Medizin bei der Bewältigung der Klimakrise, danach Apéro vom Verein FORÄRA.\n\nhttps://eventfrog.at/de/p/fuehrungen-vortraege/vortrag/oeko-isch-gsund-7451733573038556954.html
LOCATION:Gemeinschaftszentrum Telli
GEO:47.398840;8.057790
URL:https://eventfrog.at/de/p/fuehrungen-vortraege/vortrag/oeko-isch-gsund-7451733573038556954.html
END:VEVENT
END:VCALENDAR